BEGIN:VCALENDAR
PRODID:-//eluceo/ical//2.0/EN
VERSION:2.0
CALSCALE:GREGORIAN
BEGIN:VEVENT
UID:e987e182729a0ba4443bd5041704652d
DTSTAMP:20260424T211242Z
SUMMARY:Apérotary
DESCRIPTION:Webseite: http://www.hotelilluster.ch
URL:https://uster.rotary2000.ch/de/agenda/show/200350
DTSTART;TZID=Europe/Zurich:20260701T180000
DTEND;TZID=Europe/Zurich:20260701T194500
LOCATION:Apéro Hotel Illuster\, Zürichstrasse 14\, 8610 Uster\, Schweiz
CATEGORIES:Rotary
END:VEVENT
BEGIN:VTIMEZONE
TZID:Europe/Zurich
BEGIN:DAYLIGHT
DTSTART:20260701T180000
TZNAME:CEST
TZOFFSETTO:+0200
TZOFFSETFROM:+0200
END:DAYLIGHT
END:VTIMEZONE
END:VCALENDAR
