BEGIN:VCALENDAR
PRODID:-//eluceo/ical//2.0/EN
VERSION:2.0
CALSCALE:GREGORIAN
BEGIN:VEVENT
UID:31e1625d970c8b256ec4d3bf69b7cd2c
DTSTAMP:20260424T220910Z
SUMMARY:Lunch mit Vortrag
DESCRIPTION:Webseite: http://www.stadtpark.ch
URL:https://uster.rotary2000.ch/de/agenda/show/211872
DTSTART;TZID=Europe/Zurich:20260416T114500
DTEND;TZID=Europe/Zurich:20260416T133000
LOCATION:Theaterstrasse 4\, 8610 Uster\, Schweiz
CATEGORIES:Rotary
END:VEVENT
BEGIN:VTIMEZONE
TZID:Europe/Zurich
BEGIN:DAYLIGHT
DTSTART:20260416T114500
TZNAME:CEST
TZOFFSETTO:+0200
TZOFFSETFROM:+0200
END:DAYLIGHT
END:VTIMEZONE
END:VCALENDAR
